BEGIN:VCALENDAR
VERSION:2.0
PRODID:-//El Paseo Cruise Night - ECPv6.15.20//NONSGML v1.0//EN
CALSCALE:GREGORIAN
METHOD:PUBLISH
X-ORIGINAL-URL:https://elpaseocruisenight.com
X-WR-CALDESC:Events for El Paseo Cruise Night
REFRESH-INTERVAL;VALUE=DURATION:PT1H
X-Robots-Tag:noindex
X-PUBLISHED-TTL:PT1H
BEGIN:VTIMEZONE
TZID:UTC
BEGIN:STANDARD
TZOFFSETFROM:+0000
TZOFFSETTO:+0000
TZNAME:UTC
DTSTART:20240101T000000
END:STANDARD
END:VTIMEZONE
BEGIN:VEVENT
DTSTART;TZID=UTC:20250326T170000
DTEND;TZID=UTC:20250326T193000
DTSTAMP:20260421T104157
CREATED:20250204T211912Z
LAST-MODIFIED:20250206T191142Z
UID:1308-1743008400-1743017400@elpaseocruisenight.com
SUMMARY:Classic Cars Under The Stars
DESCRIPTION:March 26th 2025 Classic Cars Under the Stars.\n\nWhere:  Desert Willow Golf Resort\, Palm Desert\, Ca.\n\nWhen:  Thursday\, March 26th\, 2025\n\nClassic Car Showcase:  5:00pm - 6:00pm\n\nDinner Buffet & Concert:  6:00pm - 7:30pm\n\nPricing:  70.00 PER PERSON\n\n\n\nPurchase your Tickets Today
URL:https://elpaseocruisenight.com/event/cars-under-the-stars/
LOCATION:DESERT WILLOW\, DESERT WILLOW RESORT\, PALM DESERT\, CA\, United States
ATTACH;FMTTYPE=image/png:https://elpaseocruisenight.com/wp-content/uploads/2025/01/Cruise-Night-with-car-transparent-1.png
END:VEVENT
END:VCALENDAR