BEGIN:VCALENDAR
VERSION:2.0
PRODID:-//El Paseo Cruise Night - ECPv6.15.20//NONSGML v1.0//EN
CALSCALE:GREGORIAN
METHOD:PUBLISH
X-WR-CALNAME:El Paseo Cruise Night
X-ORIGINAL-URL:https://elpaseocruisenight.com
X-WR-CALDESC:Events for El Paseo Cruise Night
REFRESH-INTERVAL;VALUE=DURATION:PT1H
X-Robots-Tag:noindex
X-PUBLISHED-TTL:PT1H
BEGIN:VTIMEZONE
TZID:UTC
BEGIN:STANDARD
TZOFFSETFROM:+0000
TZOFFSETTO:+0000
TZNAME:UTC
DTSTART:20240101T000000
END:STANDARD
END:VTIMEZONE
BEGIN:VEVENT
DTSTART;TZID=UTC:20250404T140000
DTEND;TZID=UTC:20250404T160000
DTSTAMP:20260421T202131
CREATED:20250107T193050Z
LAST-MODIFIED:20250107T193050Z
UID:1205-1743775200-1743782400@elpaseocruisenight.com
SUMMARY:Cruise Night April 4th
DESCRIPTION:Friday April 4th\nCruisers will start arriving at the Palm Desert Chamber Parking Lot at 2pm and the Cruise will begin at 4pm.\nCome on by and check it out.\n72559 Hwy 111\, Palm Desert\nYou don’t need to own a Classic Car to enjoy all the festivities of Cruise Night on El Paseo.  Everyone is welcome!
URL:https://elpaseocruisenight.com/event/cruise-night-april-4th/
LOCATION:72559 Hwy 111\, Palm Desert\, 72559 Hwy 111\, Palm Desert\, CA\, United States
ATTACH;FMTTYPE=image/png:https://elpaseocruisenight.com/wp-content/uploads/2025/01/Cruise-Night-with-car-transparent-2.png
END:VEVENT
BEGIN:VEVENT
DTSTART;TZID=UTC:20251015T170000
DTEND;TZID=UTC:20251015T193000
DTSTAMP:20260421T202131
CREATED:20250813T205355Z
LAST-MODIFIED:20250813T205750Z
UID:1446-1760547600-1760556600@elpaseocruisenight.com
SUMMARY:Welcome Back Dinner
DESCRIPTION:SIGN-UP FORM
URL:https://elpaseocruisenight.com/event/welcome-back-dinner-10-15-2025/
LOCATION:DESERT WILLOW\, DESERT WILLOW RESORT\, PALM DESERT\, CA\, United States
END:VEVENT
BEGIN:VEVENT
DTSTART;TZID=UTC:20251107T140000
DTEND;TZID=UTC:20251107T160000
DTSTAMP:20260421T202131
CREATED:20250813T205921Z
LAST-MODIFIED:20250813T205921Z
UID:1452-1762524000-1762531200@elpaseocruisenight.com
SUMMARY:Cruise Night November 7th
DESCRIPTION:
URL:https://elpaseocruisenight.com/event/cruise-night-november-7th/
LOCATION:72559 Hwy 111\, Palm Desert\, 72559 Hwy 111\, Palm Desert\, CA\, United States
END:VEVENT
BEGIN:VEVENT
DTSTART;TZID=UTC:20251205T140000
DTEND;TZID=UTC:20251205T160000
DTSTAMP:20260421T202131
CREATED:20250813T205959Z
LAST-MODIFIED:20250813T210006Z
UID:1454-1764943200-1764950400@elpaseocruisenight.com
SUMMARY:Cruise Night December 5th
DESCRIPTION:
URL:https://elpaseocruisenight.com/event/cruise-night-december-5th/
LOCATION:72559 Hwy 111\, Palm Desert\, 72559 Hwy 111\, Palm Desert\, CA\, United States
END:VEVENT
BEGIN:VEVENT
DTSTART;TZID=UTC:20251206T100000
DTEND;TZID=UTC:20251206T140000
DTSTAMP:20260421T202131
CREATED:20251106T194608Z
LAST-MODIFIED:20251106T194757Z
UID:1556-1765015200-1765029600@elpaseocruisenight.com
SUMMARY:Cruise-In Car Show
DESCRIPTION:
URL:https://elpaseocruisenight.com/event/cruise-in-car-show-12-06-2025/
LOCATION:The River\, 78100 Hwy 111\, Rancho Mirage\, CA\, 92270\, United States
END:VEVENT
BEGIN:VEVENT
DTSTART;TZID=UTC:20260102T140000
DTEND;TZID=UTC:20260102T160000
DTSTAMP:20260421T202131
CREATED:20250813T210250Z
LAST-MODIFIED:20250813T210250Z
UID:1456-1767362400-1767369600@elpaseocruisenight.com
SUMMARY:Cruise Night January 2nd
DESCRIPTION:
URL:https://elpaseocruisenight.com/event/cruise-night-january-2nd/
LOCATION:72559 Hwy 111\, Palm Desert\, 72559 Hwy 111\, Palm Desert\, CA\, United States
END:VEVENT
BEGIN:VEVENT
DTSTART;TZID=UTC:20260103T100000
DTEND;TZID=UTC:20260103T140000
DTSTAMP:20260421T202131
CREATED:20251106T194911Z
LAST-MODIFIED:20251106T194911Z
UID:1561-1767434400-1767448800@elpaseocruisenight.com
SUMMARY:Cruise-In Car Show
DESCRIPTION:
URL:https://elpaseocruisenight.com/event/cruise-in-car-show-01-03-2026/
LOCATION:The River\, 78100 Hwy 111\, Rancho Mirage\, CA\, 92270\, United States
END:VEVENT
BEGIN:VEVENT
DTSTART;TZID=UTC:20260116T140000
DTEND;TZID=UTC:20260116T160000
DTSTAMP:20260421T202131
CREATED:20250813T210340Z
LAST-MODIFIED:20250813T210340Z
UID:1458-1768572000-1768579200@elpaseocruisenight.com
SUMMARY:Cruise Night January 16th
DESCRIPTION:
URL:https://elpaseocruisenight.com/event/cruise-night-january-16th/
LOCATION:72559 Hwy 111\, Palm Desert\, 72559 Hwy 111\, Palm Desert\, CA\, United States
END:VEVENT
BEGIN:VEVENT
DTSTART;TZID=UTC:20260206T140000
DTEND;TZID=UTC:20260206T160000
DTSTAMP:20260421T202131
CREATED:20250813T210521Z
LAST-MODIFIED:20250813T210521Z
UID:1460-1770386400-1770393600@elpaseocruisenight.com
SUMMARY:Cruise Night February 6th
DESCRIPTION:
URL:https://elpaseocruisenight.com/event/cruise-night-february-6th/
LOCATION:72559 Hwy 111\, Palm Desert\, 72559 Hwy 111\, Palm Desert\, CA\, United States
END:VEVENT
BEGIN:VEVENT
DTSTART;TZID=UTC:20260207T100000
DTEND;TZID=UTC:20260207T140000
DTSTAMP:20260421T202131
CREATED:20251106T195118Z
LAST-MODIFIED:20251106T195303Z
UID:1563-1770458400-1770472800@elpaseocruisenight.com
SUMMARY:Cruise-In Car Show
DESCRIPTION:
URL:https://elpaseocruisenight.com/event/cruise-in-car-show-02-07-2026/
LOCATION:The River\, 78100 Hwy 111\, Rancho Mirage\, CA\, 92270\, United States
END:VEVENT
BEGIN:VEVENT
DTSTART;TZID=UTC:20260213T140000
DTEND;TZID=UTC:20260213T160000
DTSTAMP:20260421T202131
CREATED:20250813T210741Z
LAST-MODIFIED:20250813T210741Z
UID:1462-1770991200-1770998400@elpaseocruisenight.com
SUMMARY:Cruise Night February 13th
DESCRIPTION:
URL:https://elpaseocruisenight.com/event/cruise-night-february-13th/
LOCATION:72559 Hwy 111\, Palm Desert\, 72559 Hwy 111\, Palm Desert\, CA\, United States
END:VEVENT
BEGIN:VEVENT
DTSTART;TZID=UTC:20260306T140000
DTEND;TZID=UTC:20260306T160000
DTSTAMP:20260421T202131
CREATED:20250813T210827Z
LAST-MODIFIED:20250813T210827Z
UID:1464-1772805600-1772812800@elpaseocruisenight.com
SUMMARY:Cruise Night March 6th
DESCRIPTION:
URL:https://elpaseocruisenight.com/event/cruise-night-march-6th/
LOCATION:72559 Hwy 111\, Palm Desert\, 72559 Hwy 111\, Palm Desert\, CA\, United States
END:VEVENT
BEGIN:VEVENT
DTSTART;TZID=UTC:20260307T100000
DTEND;TZID=UTC:20260307T140000
DTSTAMP:20260421T202131
CREATED:20251106T195353Z
LAST-MODIFIED:20251106T195353Z
UID:1566-1772877600-1772892000@elpaseocruisenight.com
SUMMARY:Cruise-In Car Show
DESCRIPTION:
URL:https://elpaseocruisenight.com/event/cruise-in-car-show-03-07-2026/
LOCATION:The River\, 78100 Hwy 111\, Rancho Mirage\, CA\, 92270\, United States
END:VEVENT
BEGIN:VEVENT
DTSTART;TZID=UTC:20260313T140000
DTEND;TZID=UTC:20260313T160000
DTSTAMP:20260421T202131
CREATED:20250813T210932Z
LAST-MODIFIED:20250813T210932Z
UID:1466-1773410400-1773417600@elpaseocruisenight.com
SUMMARY:Cruise Night March 13th
DESCRIPTION:
URL:https://elpaseocruisenight.com/event/cruise-night-march-13th/
LOCATION:72559 Hwy 111\, Palm Desert\, 72559 Hwy 111\, Palm Desert\, CA\, United States
END:VEVENT
BEGIN:VEVENT
DTSTART;TZID=UTC:20260325T170000
DTEND;TZID=UTC:20260325T193000
DTSTAMP:20260421T202131
CREATED:20250813T211104Z
LAST-MODIFIED:20250813T211152Z
UID:1468-1774458000-1774467000@elpaseocruisenight.com
SUMMARY:Classic Cars Under The Stars
DESCRIPTION:SIGN-UP FORM
URL:https://elpaseocruisenight.com/event/classic-cars-under-the-stars-03-25-2026/
LOCATION:DESERT WILLOW\, DESERT WILLOW RESORT\, PALM DESERT\, CA\, United States
END:VEVENT
BEGIN:VEVENT
DTSTART;TZID=UTC:20260403T140000
DTEND;TZID=UTC:20260403T160000
DTSTAMP:20260421T202131
CREATED:20250813T211312Z
LAST-MODIFIED:20250813T211312Z
UID:1470-1775224800-1775232000@elpaseocruisenight.com
SUMMARY:Cruise Night April 3rd
DESCRIPTION:
URL:https://elpaseocruisenight.com/event/cruise-night-april-3rd/
LOCATION:72559 Hwy 111\, Palm Desert\, 72559 Hwy 111\, Palm Desert\, CA\, United States
END:VEVENT
BEGIN:VEVENT
DTSTART;TZID=UTC:20260404T100000
DTEND;TZID=UTC:20260404T140000
DTSTAMP:20260421T202131
CREATED:20251106T195622Z
LAST-MODIFIED:20251106T195622Z
UID:1568-1775296800-1775311200@elpaseocruisenight.com
SUMMARY:Cruise-In Car Show
DESCRIPTION:
URL:https://elpaseocruisenight.com/event/cruise-in-car-show-04-04-2026/
LOCATION:The River\, 78100 Hwy 111\, Rancho Mirage\, CA\, 92270\, United States
END:VEVENT
BEGIN:VEVENT
DTSTART;TZID=UTC:20260501T140000
DTEND;TZID=UTC:20260501T160000
DTSTAMP:20260421T202131
CREATED:20250813T211400Z
LAST-MODIFIED:20250813T211400Z
UID:1472-1777644000-1777651200@elpaseocruisenight.com
SUMMARY:Cruise Night May 1st
DESCRIPTION:
URL:https://elpaseocruisenight.com/event/cruise-night-may-1st/
LOCATION:72559 Hwy 111\, Palm Desert\, 72559 Hwy 111\, Palm Desert\, CA\, United States
END:VEVENT
END:VCALENDAR